Package: tidySpatialExperiment Version: 1.3.0 Command: /home/biocbuild/R/R/bin/R CMD build --keep-empty-dirs --no-resave-data tidySpatialExperiment StartedAt: 2025-01-28 02:55:29 -0000 (Tue, 28 Jan 2025) EndedAt: 2025-01-28 02:56:40 -0000 (Tue, 28 Jan 2025) EllapsedTime: 71.0 seconds RetCode: 0 Status: OK PackageFile: tidySpatialExperiment_1.3.0.tar.gz PackageFileSize: 4.254 MiB