Package: tidySpatialExperiment Version: 1.3.0 Command: /home/biocbuild/R/R/bin/R CMD check --install=check:tidySpatialExperiment.install-out.txt --library=/home/biocbuild/R/R/site-library --no-vignettes --timings tidySpatialExperiment_1.3.0.tar.gz StartedAt: 2025-01-28 16:07:22 -0000 (Tue, 28 Jan 2025) EndedAt: 2025-01-28 16:13:17 -0000 (Tue, 28 Jan 2025) EllapsedTime: 355.4 seconds RetCode: 0 Status: OK CheckDir: tidySpatialExperiment.Rcheck Warnings: 0