Package: tidySpatialExperiment Version: 1.3.0 Command: /Library/Frameworks/R.framework/Resources/bin/R CMD check --install=check:tidySpatialExperiment.install-out.txt --library=/Library/Frameworks/R.framework/Resources/library --no-vignettes --timings tidySpatialExperiment_1.3.0.tar.gz StartedAt: 2025-02-10 00:06:43 -0500 (Mon, 10 Feb 2025) EndedAt: 2025-02-10 00:11:42 -0500 (Mon, 10 Feb 2025) EllapsedTime: 298.7 seconds RetCode: 0 Status: OK CheckDir: tidySpatialExperiment.Rcheck Warnings: 0