Package: tidySpatialExperiment Version: 1.3.0 Command: /home/biocbuild/bbs-3.21-bioc/R/bin/R CMD build --keep-empty-dirs --no-resave-data tidySpatialExperiment StartedAt: 2025-02-12 19:32:01 -0500 (Wed, 12 Feb 2025) EndedAt: 2025-02-12 19:32:52 -0500 (Wed, 12 Feb 2025) EllapsedTime: 51.1 seconds RetCode: 0 Status: OK PackageFile: tidySpatialExperiment_1.3.0.tar.gz PackageFileSize: 4.302 MiB