Package: tidySpatialExperiment Version: 1.3.0 Command: /home/biocbuild/bbs-3.21-bioc/R/bin/R CMD check --install=check:tidySpatialExperiment.install-out.txt --library=/home/biocbuild/bbs-3.21-bioc/R/site-library --timings tidySpatialExperiment_1.3.0.tar.gz StartedAt: 2025-02-10 03:21:28 -0500 (Mon, 10 Feb 2025) EndedAt: 2025-02-10 03:25:57 -0500 (Mon, 10 Feb 2025) EllapsedTime: 269.3 seconds RetCode: 0 Status: OK CheckDir: tidySpatialExperiment.Rcheck Warnings: 0