Package: tidySpatialExperiment Version: 1.3.0 Command: rm -rf tidySpatialExperiment.buildbin-libdir && mkdir tidySpatialExperiment.buildbin-libdir && E:\biocbuild\bbs-3.21-bioc\R\bin\R.exe CMD INSTALL --build --library=tidySpatialExperiment.buildbin-libdir tidySpatialExperiment_1.3.0.tar.gz StartedAt: 2025-02-13 09:02:50 -0500 (Thu, 13 Feb 2025) EndedAt: 2025-02-13 09:04:26 -0500 (Thu, 13 Feb 2025) EllapsedTime: 95.5 seconds RetCode: 0 Status: OK PackageFile: tidySpatialExperiment_1.3.0.zip PackageFileSize: 2.798 MiB