Package: tidySpatialExperiment Version: 1.3.0 Command: chmod a+r tidySpatialExperiment -R && E:\biocbuild\bbs-3.21-bioc\R\bin\R.exe CMD build --keep-empty-dirs --no-resave-data tidySpatialExperiment StartedAt: 2025-02-12 22:13:02 -0500 (Wed, 12 Feb 2025) EndedAt: 2025-02-12 22:14:19 -0500 (Wed, 12 Feb 2025) EllapsedTime: 77.5 seconds RetCode: 0 Status: OK PackageFile: tidySpatialExperiment_1.3.0.tar.gz PackageFileSize: 4.216 MiB