Package: tidySpatialExperiment Version: 1.3.0 Command: E:\biocbuild\bbs-3.21-bioc\R\bin\R.exe CMD INSTALL tidySpatialExperiment StartedAt: 2025-02-09 16:25:08 -0500 (Sun, 09 Feb 2025) EndedAt: 2025-02-09 16:26:33 -0500 (Sun, 09 Feb 2025) EllapsedTime: 85.0 seconds RetCode: 0 Status: OK