Package: tidySummarizedExperiment Version: 1.17.0 Command: rm -rf tidySummarizedExperiment.buildbin-libdir && mkdir tidySummarizedExperiment.buildbin-libdir && /Users/biocbuild/BBS/utils/build-universal.sh tidySummarizedExperiment_1.17.0.tar.gz /Library/Frameworks/R.framework/Resources/bin/R tidySummarizedExperiment.buildbin-libdir StartedAt: 2025-02-09 22:33:29 -0500 (Sun, 09 Feb 2025) EndedAt: 2025-02-09 22:33:41 -0500 (Sun, 09 Feb 2025) EllapsedTime: 12.2 seconds RetCode: 0 Status: OK PackageFile: tidySummarizedExperiment_1.17.0.tgz PackageFileSize: 682.4 KiB