Package: tidySummarizedExperiment Version: 1.17.0 Command: rm -rf tidySummarizedExperiment.buildbin-libdir && mkdir tidySummarizedExperiment.buildbin-libdir && /Users/biocbuild/BBS/utils/build-universal.sh tidySummarizedExperiment_1.17.0.tar.gz /Library/Frameworks/R.framework/Resources/bin/R tidySummarizedExperiment.buildbin-libdir StartedAt: 2025-02-10 01:20:29 -0500 (Mon, 10 Feb 2025) EndedAt: 2025-02-10 01:21:09 -0500 (Mon, 10 Feb 2025) EllapsedTime: 40.3 seconds RetCode: 0 Status: OK PackageFile: tidySummarizedExperiment_1.17.0.tgz PackageFileSize: 681.5 KiB