Package: tidySummarizedExperiment Version: 1.17.0 Command: /Library/Frameworks/R.framework/Resources/bin/R CMD check --install=check:tidySummarizedExperiment.install-out.txt --library=/Library/Frameworks/R.framework/Resources/library --no-vignettes --timings tidySummarizedExperiment_1.17.0.tar.gz StartedAt: 2025-02-10 00:06:43 -0500 (Mon, 10 Feb 2025) EndedAt: 2025-02-10 00:11:53 -0500 (Mon, 10 Feb 2025) EllapsedTime: 310.2 seconds RetCode: 0 Status: OK CheckDir: tidySummarizedExperiment.Rcheck Warnings: 0