Package: tidySummarizedExperiment Version: 1.17.0 Command: /Library/Frameworks/R.framework/Resources/bin/R CMD INSTALL tidySummarizedExperiment StartedAt: 2025-02-03 15:31:11 -0500 (Mon, 03 Feb 2025) EndedAt: 2025-02-03 15:31:46 -0500 (Mon, 03 Feb 2025) EllapsedTime: 34.7 seconds RetCode: 0 Status: OK