Package: tidySummarizedExperiment Version: 1.17.0 Command: /home/biocbuild/bbs-3.21-bioc/R/bin/R CMD build --keep-empty-dirs --no-resave-data tidySummarizedExperiment StartedAt: 2025-02-09 19:36:14 -0500 (Sun, 09 Feb 2025) EndedAt: 2025-02-09 19:36:54 -0500 (Sun, 09 Feb 2025) EllapsedTime: 40.0 seconds RetCode: 0 Status: OK PackageFile: tidySummarizedExperiment_1.17.0.tar.gz PackageFileSize: 359.6 KiB