Package: tidySummarizedExperiment Version: 1.17.0 Command: /home/biocbuild/bbs-3.21-bioc/R/bin/R CMD check --install=check:tidySummarizedExperiment.install-out.txt --library=/home/biocbuild/bbs-3.21-bioc/R/site-library --timings tidySummarizedExperiment_1.17.0.tar.gz StartedAt: 2025-02-05 03:28:54 -0500 (Wed, 05 Feb 2025) EndedAt: 2025-02-05 03:33:22 -0500 (Wed, 05 Feb 2025) EllapsedTime: 267.3 seconds RetCode: 0 Status: OK CheckDir: tidySummarizedExperiment.Rcheck Warnings: 0