Package: tidySummarizedExperiment Version: 1.17.0 Command: E:\biocbuild\bbs-3.21-bioc\R\bin\R.exe CMD INSTALL tidySummarizedExperiment StartedAt: 2025-02-09 16:14:10 -0500 (Sun, 09 Feb 2025) EndedAt: 2025-02-09 16:19:43 -0500 (Sun, 09 Feb 2025) EllapsedTime: 332.3 seconds RetCode: 0 Status: OK