Package: tidybulk Version: 1.19.0 Command: rm -rf tidybulk.buildbin-libdir && mkdir tidybulk.buildbin-libdir && /Users/biocbuild/BBS/utils/build-universal.sh tidybulk_1.19.0.tar.gz /Library/Frameworks/R.framework/Resources/bin/R tidybulk.buildbin-libdir StartedAt: 2025-02-03 23:09:04 -0500 (Mon, 03 Feb 2025) EndedAt: 2025-02-03 23:09:24 -0500 (Mon, 03 Feb 2025) EllapsedTime: 20.4 seconds RetCode: 0 Status: OK PackageFile: tidybulk_1.19.0.tgz PackageFileSize: 3.406 MiB