Package: tidybulk Version: 1.19.0 Command: /Library/Frameworks/R.framework/Resources/bin/R CMD check --install=check:tidybulk.install-out.txt --library=/Library/Frameworks/R.framework/Resources/library --no-vignettes --timings tidybulk_1.19.0.tar.gz StartedAt: 2025-02-09 21:44:07 -0500 (Sun, 09 Feb 2025) EndedAt: 2025-02-09 21:44:11 -0500 (Sun, 09 Feb 2025) EllapsedTime: 4.1 seconds RetCode: 1 Status: ERROR CheckDir: tidybulk.Rcheck Warnings: NA