Package: tidybulk Version: 1.19.0 Command: /home/biocbuild/R/R/bin/R CMD INSTALL tidybulk StartedAt: 2025-01-29 20:08:17 -0000 (Wed, 29 Jan 2025) EndedAt: 2025-01-29 20:09:23 -0000 (Wed, 29 Jan 2025) EllapsedTime: 66.4 seconds RetCode: 0 Status: OK