Package: tidybulk Version: 1.19.0 Command: /Library/Frameworks/R.framework/Resources/bin/R CMD build --keep-empty-dirs --no-resave-data tidybulk StartedAt: 2025-02-04 18:34:05 -0500 (Tue, 04 Feb 2025) EndedAt: 2025-02-04 18:35:29 -0500 (Tue, 04 Feb 2025) EllapsedTime: 83.3 seconds RetCode: 0 Status: OK PackageFile: tidybulk_1.19.0.tar.gz PackageFileSize: 2.87 MiB