Package: tidybulk Version: 1.19.0 Command: /Library/Frameworks/R.framework/Resources/bin/R CMD check --install=check:tidybulk.install-out.txt --library=/Library/Frameworks/R.framework/Resources/library --no-vignettes --timings tidybulk_1.19.0.tar.gz StartedAt: 2025-02-10 00:06:04 -0500 (Mon, 10 Feb 2025) EndedAt: 2025-02-10 00:06:10 -0500 (Mon, 10 Feb 2025) EllapsedTime: 5.8 seconds RetCode: 1 Status: ERROR CheckDir: tidybulk.Rcheck Warnings: NA