Package: tidybulk Version: 1.19.0 Command: /Library/Frameworks/R.framework/Resources/bin/R CMD INSTALL tidybulk StartedAt: 2025-02-04 15:25:48 -0500 (Tue, 04 Feb 2025) EndedAt: 2025-02-04 15:26:51 -0500 (Tue, 04 Feb 2025) EllapsedTime: 63.4 seconds RetCode: 0 Status: OK