Package: tidybulk Version: 1.19.0 Command: /home/biocbuild/bbs-3.21-bioc/R/bin/R CMD build --keep-empty-dirs --no-resave-data tidybulk StartedAt: 2025-02-09 19:35:14 -0500 (Sun, 09 Feb 2025) EndedAt: 2025-02-09 19:36:31 -0500 (Sun, 09 Feb 2025) EllapsedTime: 77.1 seconds RetCode: 0 Status: OK PackageFile: tidybulk_1.19.0.tar.gz PackageFileSize: 2.835 MiB