Package: tidybulk Version: 1.19.0 Command: /home/biocbuild/bbs-3.21-bioc/R/bin/R CMD INSTALL tidybulk StartedAt: 2025-02-12 15:24:14 -0500 (Wed, 12 Feb 2025) EndedAt: 2025-02-12 15:25:01 -0500 (Wed, 12 Feb 2025) EllapsedTime: 47.2 seconds RetCode: 0 Status: OK