Package: tidybulk Version: 1.19.0 Command: rm -rf tidybulk.buildbin-libdir && mkdir tidybulk.buildbin-libdir && E:\biocbuild\bbs-3.21-bioc\R\bin\R.exe CMD INSTALL --build --library=tidybulk.buildbin-libdir tidybulk_1.19.0.tar.gz StartedAt: 2025-02-10 08:52:03 -0500 (Mon, 10 Feb 2025) EndedAt: 2025-02-10 08:53:41 -0500 (Mon, 10 Feb 2025) EllapsedTime: 98.0 seconds RetCode: 0 Status: OK PackageFile: tidybulk_1.19.0.zip PackageFileSize: 3.297 MiB