Package: tidybulk Version: 1.19.0 Command: chmod a+r tidybulk -R && E:\biocbuild\bbs-3.21-bioc\R\bin\R.exe CMD build --keep-empty-dirs --no-resave-data tidybulk StartedAt: 2025-02-09 22:04:33 -0500 (Sun, 09 Feb 2025) EndedAt: 2025-02-09 22:06:28 -0500 (Sun, 09 Feb 2025) EllapsedTime: 115.0 seconds RetCode: 0 Status: OK PackageFile: tidybulk_1.19.0.tar.gz PackageFileSize: 2.754 MiB