Package: tidybulk Version: 1.19.0 Command: E:\biocbuild\bbs-3.21-bioc\R\bin\R.exe CMD INSTALL tidybulk StartedAt: 2025-02-09 16:13:45 -0500 (Sun, 09 Feb 2025) EndedAt: 2025-02-09 16:15:22 -0500 (Sun, 09 Feb 2025) EllapsedTime: 96.6 seconds RetCode: 0 Status: OK