Package: tidyomics Version: 1.3.0 Command: /Library/Frameworks/R.framework/Resources/bin/R CMD INSTALL tidyomics StartedAt: 2025-02-12 15:22:17 -0500 (Wed, 12 Feb 2025) EndedAt: 2025-02-12 15:22:31 -0500 (Wed, 12 Feb 2025) EllapsedTime: 14.0 seconds RetCode: 0 Status: OK