Package: tidyomics Version: 1.3.0 Command: /Library/Frameworks/R.framework/Resources/bin/R CMD INSTALL tidyomics StartedAt: 2025-02-09 15:35:29 -0500 (Sun, 09 Feb 2025) EndedAt: 2025-02-09 15:36:18 -0500 (Sun, 09 Feb 2025) EllapsedTime: 49.1 seconds RetCode: 0 Status: OK