Package: tidyomics Version: 1.3.0 Command: rm -rf tidyomics.buildbin-libdir && mkdir tidyomics.buildbin-libdir && E:\biocbuild\bbs-3.21-bioc\R\bin\R.exe CMD INSTALL --build --library=tidyomics.buildbin-libdir tidyomics_1.3.0.tar.gz StartedAt: 2025-02-10 08:52:07 -0500 (Mon, 10 Feb 2025) EndedAt: 2025-02-10 08:52:55 -0500 (Mon, 10 Feb 2025) EllapsedTime: 48.2 seconds RetCode: 0 Status: OK PackageFile: tidyomics_1.3.0.zip PackageFileSize: 76.44 KiB