Package: tidyomics Version: 1.3.0 Command: E:\biocbuild\bbs-3.21-bioc\R\bin\R.exe CMD check --no-multiarch --install=check:tidyomics.install-out.txt --library=E:\biocbuild\bbs-3.21-bioc\R\library --no-vignettes --timings tidyomics_1.3.0.tar.gz StartedAt: 2025-02-13 06:22:46 -0500 (Thu, 13 Feb 2025) EndedAt: 2025-02-13 06:27:01 -0500 (Thu, 13 Feb 2025) EllapsedTime: 255.7 seconds RetCode: 0 Status: WARNINGS CheckDir: tidyomics.Rcheck Warnings: 1