Package: tidysbml Version: 1.1.0 Command: rm -rf tidysbml.buildbin-libdir && mkdir tidysbml.buildbin-libdir && /Users/biocbuild/BBS/utils/build-universal.sh tidysbml_1.1.0.tar.gz /Library/Frameworks/R.framework/Resources/bin/R tidysbml.buildbin-libdir StartedAt: 2025-02-09 22:33:26 -0500 (Sun, 09 Feb 2025) EndedAt: 2025-02-09 22:33:28 -0500 (Sun, 09 Feb 2025) EllapsedTime: 2.0 seconds RetCode: 0 Status: OK PackageFile: tidysbml_1.1.0.tgz PackageFileSize: 335.6 KiB