Package: tidysbml Version: 1.1.0 Command: /Library/Frameworks/R.framework/Resources/bin/R CMD build --keep-empty-dirs --no-resave-data tidysbml StartedAt: 2025-02-09 17:48:37 -0500 (Sun, 09 Feb 2025) EndedAt: 2025-02-09 17:48:45 -0500 (Sun, 09 Feb 2025) EllapsedTime: 8.1 seconds RetCode: 0 Status: OK PackageFile: tidysbml_1.1.0.tar.gz PackageFileSize: 306.7 KiB