Package: tidysbml Version: 1.1.0 Command: /Library/Frameworks/R.framework/Resources/bin/R CMD check --install=check:tidysbml.install-out.txt --library=/Library/Frameworks/R.framework/Resources/library --no-vignettes --timings tidysbml_1.1.0.tar.gz StartedAt: 2025-02-09 21:44:27 -0500 (Sun, 09 Feb 2025) EndedAt: 2025-02-09 21:44:42 -0500 (Sun, 09 Feb 2025) EllapsedTime: 15.2 seconds RetCode: 0 Status: OK CheckDir: tidysbml.Rcheck Warnings: 0