Package: tidysbml Version: 1.1.0 Command: /Library/Frameworks/R.framework/Resources/bin/R CMD INSTALL tidysbml StartedAt: 2025-02-09 15:02:33 -0500 (Sun, 09 Feb 2025) EndedAt: 2025-02-09 15:02:41 -0500 (Sun, 09 Feb 2025) EllapsedTime: 8.7 seconds RetCode: 0 Status: OK