Package: tidysbml Version: 1.1.0 Command: /home/biocbuild/R/R/bin/R CMD build --keep-empty-dirs --no-resave-data tidysbml StartedAt: 2025-01-28 02:55:10 -0000 (Tue, 28 Jan 2025) EndedAt: 2025-01-28 02:55:29 -0000 (Tue, 28 Jan 2025) EllapsedTime: 19.0 seconds RetCode: 0 Status: OK PackageFile: tidysbml_1.1.0.tar.gz PackageFileSize: 336.3 KiB