Package: tidysbml Version: 1.1.0 Command: rm -rf tidysbml.buildbin-libdir && mkdir tidysbml.buildbin-libdir && /Users/biocbuild/BBS/utils/build-universal.sh tidysbml_1.1.0.tar.gz /Library/Frameworks/R.framework/Resources/bin/R tidysbml.buildbin-libdir StartedAt: 2025-02-11 01:34:07 -0500 (Tue, 11 Feb 2025) EndedAt: 2025-02-11 01:34:13 -0500 (Tue, 11 Feb 2025) EllapsedTime: 6.0 seconds RetCode: 0 Status: OK PackageFile: tidysbml_1.1.0.tgz PackageFileSize: 334.3 KiB