Package: tidysbml Version: 1.1.0 Command: /Library/Frameworks/R.framework/Resources/bin/R CMD build --keep-empty-dirs --no-resave-data tidysbml StartedAt: 2025-02-10 18:34:49 -0500 (Mon, 10 Feb 2025) EndedAt: 2025-02-10 18:35:07 -0500 (Mon, 10 Feb 2025) EllapsedTime: 18.3 seconds RetCode: 0 Status: OK PackageFile: tidysbml_1.1.0.tar.gz PackageFileSize: 306.1 KiB