Package: tidysbml Version: 1.1.0 Command: /Library/Frameworks/R.framework/Resources/bin/R CMD check --install=check:tidysbml.install-out.txt --library=/Library/Frameworks/R.framework/Resources/library --no-vignettes --timings tidysbml_1.1.0.tar.gz StartedAt: 2025-02-11 00:21:40 -0500 (Tue, 11 Feb 2025) EndedAt: 2025-02-11 00:22:13 -0500 (Tue, 11 Feb 2025) EllapsedTime: 33.2 seconds RetCode: 0 Status: OK CheckDir: tidysbml.Rcheck Warnings: 0