Package: tidysbml Version: 1.1.0 Command: /Library/Frameworks/R.framework/Resources/bin/R CMD INSTALL tidysbml StartedAt: 2025-02-10 15:05:54 -0500 (Mon, 10 Feb 2025) EndedAt: 2025-02-10 15:06:27 -0500 (Mon, 10 Feb 2025) EllapsedTime: 32.7 seconds RetCode: 0 Status: OK