Package: tidysbml Version: 1.1.0 Command: /home/biocbuild/bbs-3.21-bioc/R/bin/R CMD build --keep-empty-dirs --no-resave-data tidysbml StartedAt: 2025-02-10 19:45:06 -0500 (Mon, 10 Feb 2025) EndedAt: 2025-02-10 19:45:20 -0500 (Mon, 10 Feb 2025) EllapsedTime: 14.0 seconds RetCode: 0 Status: OK PackageFile: tidysbml_1.1.0.tar.gz PackageFileSize: 306.3 KiB