Package: tidysbml Version: 1.1.0 Command: rm -rf tidysbml.buildbin-libdir && mkdir tidysbml.buildbin-libdir && E:\biocbuild\bbs-3.21-bioc\R\bin\R.exe CMD INSTALL --build --library=tidysbml.buildbin-libdir tidysbml_1.1.0.tar.gz StartedAt: 2025-02-11 09:06:38 -0500 (Tue, 11 Feb 2025) EndedAt: 2025-02-11 09:06:46 -0500 (Tue, 11 Feb 2025) EllapsedTime: 7.8 seconds RetCode: 0 Status: OK PackageFile: tidysbml_1.1.0.zip PackageFileSize: 345.8 KiB