Package: tidysbml Version: 1.1.0 Command: chmod a+r tidysbml -R && E:\biocbuild\bbs-3.21-bioc\R\bin\R.exe CMD build --keep-empty-dirs --no-resave-data tidysbml StartedAt: 2025-02-10 22:17:08 -0500 (Mon, 10 Feb 2025) EndedAt: 2025-02-10 22:17:29 -0500 (Mon, 10 Feb 2025) EllapsedTime: 20.9 seconds RetCode: 0 Status: OK PackageFile: tidysbml_1.1.0.tar.gz PackageFileSize: 306.3 KiB