Package: tidysbml Version: 1.1.0 Command: E:\biocbuild\bbs-3.21-bioc\R\bin\R.exe CMD INSTALL tidysbml StartedAt: 2025-02-10 15:34:34 -0500 (Mon, 10 Feb 2025) EndedAt: 2025-02-10 15:34:46 -0500 (Mon, 10 Feb 2025) EllapsedTime: 12.4 seconds RetCode: 0 Status: OK