Package: tidytof Version: 1.1.0 Command: rm -rf tidytof.buildbin-libdir && mkdir tidytof.buildbin-libdir && /Users/biocbuild/BBS/utils/build-universal.sh tidytof_1.1.0.tar.gz /Library/Frameworks/R.framework/Resources/bin/R tidytof.buildbin-libdir StartedAt: 2025-02-09 22:33:29 -0500 (Sun, 09 Feb 2025) EndedAt: 2025-02-09 22:33:41 -0500 (Sun, 09 Feb 2025) EllapsedTime: 12.2 seconds RetCode: 0 Status: OK PackageFile: tidytof_1.1.0.tgz PackageFileSize: 3.189 MiB