Package: tidytof Version: 1.1.0 Command: /Library/Frameworks/R.framework/Resources/bin/R CMD build --keep-empty-dirs --no-resave-data tidytof StartedAt: 2025-02-09 17:48:44 -0500 (Sun, 09 Feb 2025) EndedAt: 2025-02-09 17:50:27 -0500 (Sun, 09 Feb 2025) EllapsedTime: 103.4 seconds RetCode: 0 Status: OK PackageFile: tidytof_1.1.0.tar.gz PackageFileSize: 2.659 MiB