Package: tidytof Version: 1.1.0 Command: /home/biocbuild/R/R/bin/R CMD build --keep-empty-dirs --no-resave-data tidytof StartedAt: 2025-01-28 02:55:40 -0000 (Tue, 28 Jan 2025) EndedAt: 2025-01-28 03:02:16 -0000 (Tue, 28 Jan 2025) EllapsedTime: 396.2 seconds RetCode: 0 Status: OK PackageFile: tidytof_1.1.0.tar.gz PackageFileSize: 1.753 MiB