Package: tidytof Version: 1.1.0 Command: /Library/Frameworks/R.framework/Resources/bin/R CMD check --install=check:tidytof.install-out.txt --library=/Library/Frameworks/R.framework/Resources/library --no-vignettes --timings tidytof_1.1.0.tar.gz StartedAt: 2025-02-10 00:06:51 -0500 (Mon, 10 Feb 2025) EndedAt: 2025-02-10 00:14:05 -0500 (Mon, 10 Feb 2025) EllapsedTime: 434.4 seconds RetCode: 0 Status: OK CheckDir: tidytof.Rcheck Warnings: 0