Package: tidytof Version: 1.1.0 Command: /home/biocbuild/bbs-3.21-bioc/R/bin/R CMD build --keep-empty-dirs --no-resave-data tidytof StartedAt: 2025-02-12 19:32:07 -0500 (Wed, 12 Feb 2025) EndedAt: 2025-02-12 19:36:20 -0500 (Wed, 12 Feb 2025) EllapsedTime: 253.4 seconds RetCode: 0 Status: OK PackageFile: tidytof_1.1.0.tar.gz PackageFileSize: 2.448 MiB