Package: tidytof Version: 1.1.0 Command: rm -rf tidytof.buildbin-libdir && mkdir tidytof.buildbin-libdir && E:\biocbuild\bbs-3.21-bioc\R\bin\R.exe CMD INSTALL --build --library=tidytof.buildbin-libdir tidytof_1.1.0.tar.gz StartedAt: 2025-02-10 08:52:13 -0500 (Mon, 10 Feb 2025) EndedAt: 2025-02-10 08:53:21 -0500 (Mon, 10 Feb 2025) EllapsedTime: 67.7 seconds RetCode: 0 Status: OK PackageFile: tidytof_1.1.0.zip PackageFileSize: 2.391 MiB