Package: tidytof Version: 1.1.0 Command: chmod a+r tidytof -R && E:\biocbuild\bbs-3.21-bioc\R\bin\R.exe CMD build --keep-empty-dirs --no-resave-data tidytof StartedAt: 2025-02-09 22:05:47 -0500 (Sun, 09 Feb 2025) EndedAt: 2025-02-09 22:12:34 -0500 (Sun, 09 Feb 2025) EllapsedTime: 407.1 seconds RetCode: 0 Status: OK PackageFile: tidytof_1.1.0.tar.gz PackageFileSize: 1.534 MiB